BEGIN:VCALENDAR
VERSION:2.0
PRODID:icalendar-ruby
CALSCALE:GREGORIAN
METHOD:PUBLISH
BEGIN:VEVENT
DTSTAMP:20260425T144600Z
UID:531-12255624@oceansidecommunitychurch.ca
DTSTART:20260430T013000Z
DTEND:20260430T023000Z
CLASS:PUBLIC
CREATED:20260416T173609
DESCRIPTION:Ladies: as we look at the book of Habakkuk together this spring
  via a Sunday Message series\, you are invited to come and go deeper by en
 gaging in an in-depth\, deep dive Bible study. Through examples and discus
 sion of the Word\, we'll be learning how to have the joy of the Lord throu
 gh the hard stuff.
LAST-MODIFIED:20260416T173609
LOCATION:Oceanside Community Church
SUMMARY:Women's Bible Study
URL;VALUE=URI:https://www.oceansidecommunitychurch.ca/events/womens-bible-s
 tudy/2026-04-29
ATTACH;FILENAME=Women’s-2.png;FMTTYPE=image/png:https://dq5pwpg1q8ru0.clo
 udfront.net/2026/04/13/18/30/01/c4ea7be3-8c4b-426f-94e9-93a923453f3c/Women
 %E2%80%99s-2.png
END:VEVENT
END:VCALENDAR
