BEGIN:VCALENDAR
VERSION:2.0
PRODID:icalendar-ruby
CALSCALE:GREGORIAN
METHOD:PUBLISH
BEGIN:VEVENT
DTSTAMP:20260423T121002Z
UID:435-11874962@oceansidecommunitychurch.ca
DTSTART:20260427T010000Z
DTEND:20260427T030000Z
CLASS:PUBLIC
CREATED:20260407T112721
DESCRIPTION:Calling all preteens from grades 5-7! Come hang out together at
  the church once a month on Sundays at 6:00! It's going to be a great time
  of learning about God and having fun. Hope to see you there! For more inf
 ormation\, please contact Dawson!
LAST-MODIFIED:20260407T112721
LOCATION:Oceanside Community Church
SUMMARY:Preteen Night
URL;VALUE=URI:https://www.oceansidecommunitychurch.ca/events/preteen-night-
 -435/2026-04-26
ATTACH;FILENAME=PRETEEN NIGHT-14.png;FMTTYPE=image/png:https://dq5pwpg1q8ru
 0.cloudfront.net/2025/10/02/22/47/19/f83ed5e2-963d-4084-a30b-d49d34759617/
 PRETEEN%20NIGHT-14.png
END:VEVENT
END:VCALENDAR
