BEGIN:VCALENDAR
VERSION:2.0
PRODID:icalendar-ruby
CALSCALE:GREGORIAN
METHOD:PUBLISH
BEGIN:VEVENT
DTSTAMP:20260421T162454Z
UID:6-4854@oceansidecommunitychurch.ca
DTSTART:20191207T013000Z
DTEND:20191207T040000Z
CLASS:PUBLIC
CREATED:20191125T110440
DESCRIPTION:Join us for a free full turkey dinner followed by a short progr
 am including live music and lots of fun! Come gather around the table toge
 ther to celebrate the season with friends\, family\, and guests: all are
  welcome!\nAs we celebrate the homeless Son of God\, we want to remember t
 he homeless around us. Therefore\, as a part of the dinner\, we will be ra
 ising funds to support two local initiatives for the homeless: our local 
 Cold Weather Shelter and Manna Homeless Society. \nConfirm your spot\, in
 vite your friends\, and share the event on our Facebook Event Page!
LAST-MODIFIED:20191125T110440
LOCATION:
SUMMARY:Oceanside Community Christmas Dinner!
URL;VALUE=URI:https://www.oceansidecommunitychurch.ca/events/oceanside-comm
 unity-christmas-dinner/2019-12-06
ATTACH;FILENAME=christmas dinner.png;FMTTYPE=image/png:https://dq5pwpg1q8ru
 0.cloudfront.net/2019/11/17/10/22/17/b721e976-ccc2-4543-8fe7-e8073e290cb7/
 christmas%20dinner.png
ATTACH;FILENAME=Merry Christmas.jpg;FMTTYPE=image/jpeg:https://dq5pwpg1q8ru
 0.cloudfront.net/2018/11/12/10/37/10/5f473884-98e9-49cb-887e-a67f10ef6807/
 Merry%20Christmas.jpg
END:VEVENT
END:VCALENDAR
