BEGIN:VCALENDAR
VERSION:2.0
PRODID:icalendar-ruby
CALSCALE:GREGORIAN
METHOD:PUBLISH
BEGIN:VEVENT
DTSTAMP:20260423T111246Z
UID:243-403815@oceansidecommunitychurch.ca
DTSTART;VALUE=DATE:20210813
DTEND;VALUE=DATE:20210815
CLASS:PUBLIC
CREATED:20210622T153757
DESCRIPTION:This summer\, Nanoose Bay Camp is excited to relaunch their Mid
 s Camp! At Mids Camp\, the fun is at an all-new level and there is somethi
 ng for every single student at mids camp. They love to do the most ridicul
 ous games and challenges all while building friendship and your faith!\nMo
 re information on this camp can be found here.
LAST-MODIFIED:20210622T153757
LOCATION:Nanoose Bay Pentecostal Camp
SUMMARY:Mids Weekend Camp
URL;VALUE=URI:https://www.oceansidecommunitychurch.ca/events/mids-weekend-c
 amp/2021-08-13
ATTACH;FILENAME=IMG_9597.jpg;FMTTYPE=image/jpeg:https://dq5pwpg1q8ru0.cloud
 front.net/2021/06/22/15/34/59/cf833338-6f05-459c-9421-3a6f5b89a593/IMG_959
 7.jpg
END:VEVENT
END:VCALENDAR
