BEGIN:VCALENDAR
VERSION:2.0
PRODID:icalendar-ruby
CALSCALE:GREGORIAN
METHOD:PUBLISH
BEGIN:VEVENT
DTSTAMP:20260423T093010Z
UID:244-403816@oceansidecommunitychurch.ca
DTSTART;VALUE=DATE:20210819
DTEND;VALUE=DATE:20210822
CLASS:PUBLIC
CREATED:20210622T153813
DESCRIPTION:This summer\, Nanoose Bay Camp is excited to relaunch their Hig
 hs weekend! At Nanoose you’ll laugh\, cheer\, experience friendship and 
 support like you never thought possible. If you want to make some friends\
 , connect with Jesus and lose your voice\, come to their highs weekend. \n
 More information on this camp can be found here.
LAST-MODIFIED:20210622T153813
LOCATION:Nanoose Bay Pentecostal Camp
SUMMARY:Highs Weekend Camp
URL;VALUE=URI:https://www.oceansidecommunitychurch.ca/events/highs-weekend-
 camp/2021-08-19
ATTACH;FILENAME=highs.jpg;FMTTYPE=image/jpeg:https://dq5pwpg1q8ru0.cloudfro
 nt.net/2021/06/22/15/36/25/4874543a-a963-41ef-ae38-5f0138bfe865/highs.jpg
END:VEVENT
END:VCALENDAR
