BEGIN:VCALENDAR
VERSION:2.0
PRODID:icalendar-ruby
CALSCALE:GREGORIAN
METHOD:PUBLISH
BEGIN:VEVENT
DTSTAMP:20260421T213526Z
UID:7-4872@oceansidecommunitychurch.ca
DTSTART:20191225T000000Z
DTEND:20191225T010000Z
CLASS:PUBLIC
CREATED:20191213T130717
DESCRIPTION:A beautiful one-hour candlelight service celebrating the joy\, 
 simplicity\, and wonder of the Christmas story. A kid and family friendly
  service.\nLight refreshments will follow each one-hour service.\nStay up 
 to date\, say your coming\, and invite your friends on the Facebook Event 
 Page!
LAST-MODIFIED:20191213T130717
LOCATION:
SUMMARY:Christmas Eve Candlelight Service
URL;VALUE=URI:https://www.oceansidecommunitychurch.ca/events/christmas-eve-
 candlelight-service/2019-12-24
ATTACH;FILENAME=christmas eve (2).png;FMTTYPE=image/png:https://dq5pwpg1q8r
 u0.cloudfront.net/2019/11/19/14/33/46/ad8f8431-e515-4d03-8530-9d791a86512e
 /christmas%20eve%20(2).png
ATTACH;FILENAME=Candle1.jpg;FMTTYPE=image/jpeg:https://dq5pwpg1q8ru0.cloudf
 ront.net/2016/11/14/09/42/38/88ff34e5-bd17-4e22-aa16-ff91529b0341/Candle1.
 jpg
ATTACH;FILENAME=2017.J.jpg;FMTTYPE=image/jpeg:https://dq5pwpg1q8ru0.cloudfr
 ont.net/2018/10/29/16/10/11/368d5365-3614-4952-8ab6-ab087d6df79b/2017.J.jp
 g
END:VEVENT
END:VCALENDAR
